BEGIN:VCALENDAR
VERSION:2.0
PRODID:-//Cornell Club of Greater Buffalo - ECPv6.0.12//NONSGML v1.0//EN
CALSCALE:GREGORIAN
METHOD:PUBLISH
X-ORIGINAL-URL:http://cornellclub-buffalo.org
X-WR-CALDESC:Events for Cornell Club of Greater Buffalo
REFRESH-INTERVAL;VALUE=DURATION:PT1H
X-Robots-Tag:noindex
X-PUBLISHED-TTL:PT1H
BEGIN:VTIMEZONE
TZID:America/New_York
BEGIN:DAYLIGHT
TZOFFSETFROM:-0500
TZOFFSETTO:-0400
TZNAME:EDT
DTSTART:20200308T070000
END:DAYLIGHT
BEGIN:STANDARD
TZOFFSETFROM:-0400
TZOFFSETTO:-0500
TZNAME:EST
DTSTART:20201101T060000
END:STANDARD
END:VTIMEZONE
BEGIN:VEVENT
DTSTART;TZID=America/New_York:20200809T140000
DTEND;TZID=America/New_York:20200809T150000
DTSTAMP:20260424T072827
CREATED:20200728T153539Z
LAST-MODIFIED:20200728T153539Z
UID:801-1596981600-1596985200@cornellclub-buffalo.org
SUMMARY:Cornell Club Mixer: Around the World
DESCRIPTION:Bring your beverage of choice\, and make friends with Cornellians from all around: Atlanta\, Boston\, Buffalo\, Charlotte\, Maryland\, Seattle\, Washington DC\, Austria\, Ireland\, Milan\, Rome\, Switzerland\, Toronto \nMingle in small discussion groups centered around Cornell-related themes. Share your favorite spots in Collegetown\, reminisce on the festivities of Spring/Slope Day\, and learn how Cornell has changed over the decades. \nWe will use Zoom video chat and split everyone into small breakout rooms\, so everyone has a chance to talk and share with just a few people. We will rotate everyone around\, so you will meet many Cornellians through the mixer. We will start the video chat a few hours early\, so come early if you may need technical assistance\, and we will help you before the mixer starts. \nIt will be Cornellians across the generations: from recent graduates to those who are now grandparents to Cornellians. And it will be Cornellians across the world: Cornell Alumni Association of Atlanta\, Cornell Club of Boston\, Cornell Club of Buffalo\, Cornell Alumni Association of Charlotte\, Cornell Club of Maryland\, Cornell Club of Western Washington\, Cornell Club of Washington DC\, Cornell Club of Austria\, Cornell Club of Ireland\, Cornell Club of Milan\, Cornell Club of Rome\, Cornell Club of Switzerland\, Cornell Club of Toronto. \n  \nZoom Meeting Link\n– To join\, click on https://us02web.zoom.us/j/9144309122?pwd=Z2ZkeDV5K2RucEkvRXpUdkc2NE9uUT09\n– If you’re joining another way\, the meeting id is 914 430 9122 and the password is GoBigRed\n– The video chat will open early at Sunday 11 AM ET\, so come early if you would like to confirm your video chat works before the mixer starts \nShare this:Click to share on Twitter (Opens in new window)Click to share on Facebook (Opens in new window)Click to share on LinkedIn (Opens in new window)
URL:http://cornellclub-buffalo.org/event/cornell-club-mixer-around-the-world
END:VEVENT
END:VCALENDAR