BEGIN:VCALENDAR
VERSION:2.0
PRODID:-//Cornell Club of Greater Buffalo - ECPv6.0.12//NONSGML v1.0//EN
CALSCALE:GREGORIAN
METHOD:PUBLISH
X-ORIGINAL-URL:http://cornellclub-buffalo.org
X-WR-CALDESC:Events for Cornell Club of Greater Buffalo
REFRESH-INTERVAL;VALUE=DURATION:PT1H
X-Robots-Tag:noindex
X-PUBLISHED-TTL:PT1H
BEGIN:VTIMEZONE
TZID:America/New_York
BEGIN:DAYLIGHT
TZOFFSETFROM:-0500
TZOFFSETTO:-0400
TZNAME:EDT
DTSTART:20200308T070000
END:DAYLIGHT
BEGIN:STANDARD
TZOFFSETFROM:-0400
TZOFFSETTO:-0500
TZNAME:EST
DTSTART:20201101T060000
END:STANDARD
END:VTIMEZONE
BEGIN:VEVENT
DTSTART;TZID=America/New_York:20201015T193000
DTEND;TZID=America/New_York:20201015T203000
DTSTAMP:20260420T180010
CREATED:20200813T132308Z
LAST-MODIFIED:20200813T132555Z
UID:810-1602790200-1602793800@cornellclub-buffalo.org
SUMMARY:October Cornell History Happy Hour
DESCRIPTION:Cornelliana with Corey\nWant to learn more about Cornell’s history? Looking for a great reason to get together online with your Cornell friends or spend some time learning something new? Join us each month to hear from the legendary Corey Ryan Earle ’07 at one of his ‘history happy hours’ this fall. Tune in for one or all five! \n\n\n\n\n\n\n\n\nThursday\, October 15\, 7:30pm EST \nA Zinck’s Night Celebration of Collegetown and Cornell Night Life\n\n\n\n\n\n\nRegister now at https://cornell.zoom.us/webinar/register/WN_vG78g9dvSIOkUvXmdbD26A\n\n\n\n\n\n\n\nShare this:Click to share on Twitter (Opens in new window)Click to share on Facebook (Opens in new window)Click to share on LinkedIn (Opens in new window)
URL:http://cornellclub-buffalo.org/event/october-cornell-history-happy-hour
END:VEVENT
END:VCALENDAR