BEGIN:VCALENDAR
VERSION:2.0
PRODID:-//Cornell Club of Greater Buffalo - ECPv6.0.12//NONSGML v1.0//EN
CALSCALE:GREGORIAN
METHOD:PUBLISH
X-ORIGINAL-URL:http://cornellclub-buffalo.org
X-WR-CALDESC:Events for Cornell Club of Greater Buffalo
REFRESH-INTERVAL;VALUE=DURATION:PT1H
X-Robots-Tag:noindex
X-PUBLISHED-TTL:PT1H
BEGIN:VTIMEZONE
TZID:America/New_York
BEGIN:DAYLIGHT
TZOFFSETFROM:-0500
TZOFFSETTO:-0400
TZNAME:EDT
DTSTART:20210314T070000
END:DAYLIGHT
BEGIN:STANDARD
TZOFFSETFROM:-0400
TZOFFSETTO:-0500
TZNAME:EST
DTSTART:20211107T060000
END:STANDARD
END:VTIMEZONE
BEGIN:VEVENT
DTSTART;TZID=America/New_York:20210105T200000
DTEND;TZID=America/New_York:20210105T210000
DTSTAMP:20260420T135933
CREATED:20201228T135803Z
LAST-MODIFIED:20210104T160024Z
UID:867-1609876800-1609880400@cornellclub-buffalo.org
SUMMARY:Annual CAAAN Kick-Off Event
DESCRIPTION:  \n\n\n\n\n\nPer tradition\, Buffalo-area CAAAN (Cornell Alumni Admissions Ambassador Network) volunteers and all interested alumni of Cornell are invited to our annual CAAAN Kick-Off and Information Session to be held remotely on Tuesday January 5th at 8PM. \nYou will have the chance to learn more about the CAAAN program (the program wherein alumni meet and talk with prospective students about the Cornell experience) while meeting other alumni and learning more about the Cornell admissions process. Due to a number of changes that occurred this year on account of the pandemic and changes to CAAAN and Cornell admissions process\, we encourage all volunteers — both new and longstanding — to join! \nMany alumni attest that their role as a CAAAN volunteer is one of the most rewarding activities they are involved with as a Cornellian! \nFor those who are new to the CAAAN program\, please be sure to sign-up today at their website: \nhttps://caaan.admissions.cornell.edu/newmember.cfm \nQuestions? Contact area CAAAN General Chair\, Matthew Nagowski ’05 at nagowski@cornell.edu \n\n\nRegister now at https://cornell.zoom.us/meeting/register/tJArfuigrDsqGtfUTK90OCLafv1rRNqLeN05 \n\nShare this:Click to share on Twitter (Opens in new window)Click to share on Facebook (Opens in new window)Click to share on LinkedIn (Opens in new window)
URL:http://cornellclub-buffalo.org/event/annual-caaan-kick-off-event
END:VEVENT
END:VCALENDAR