BEGIN:VCALENDAR
VERSION:2.0
PRODID:-//Cornell Club of Greater Buffalo - ECPv6.0.12//NONSGML v1.0//EN
CALSCALE:GREGORIAN
METHOD:PUBLISH
X-WR-CALNAME:Cornell Club of Greater Buffalo
X-ORIGINAL-URL:http://cornellclub-buffalo.org
X-WR-CALDESC:Events for Cornell Club of Greater Buffalo
REFRESH-INTERVAL;VALUE=DURATION:PT1H
X-Robots-Tag:noindex
X-PUBLISHED-TTL:PT1H
BEGIN:VTIMEZONE
TZID:America/New_York
BEGIN:DAYLIGHT
TZOFFSETFROM:-0500
TZOFFSETTO:-0400
TZNAME:EDT
DTSTART:20200308T070000
END:DAYLIGHT
BEGIN:STANDARD
TZOFFSETFROM:-0400
TZOFFSETTO:-0500
TZNAME:EST
DTSTART:20201101T060000
END:STANDARD
END:VTIMEZONE
BEGIN:VEVENT
DTSTART;TZID=America/New_York:20200915T193000
DTEND;TZID=America/New_York:20200915T210000
DTSTAMP:20260420T175930
CREATED:20200825T202754Z
LAST-MODIFIED:20200902T145002Z
UID:825-1600198200-1600203600@cornellclub-buffalo.org
SUMMARY:Sept 2020 Book Club
DESCRIPTION:Cornell Club of Greater Buffalo Book Club on September 15\, on ZOOM.  \n\nPlease register in advance here. Contact Celinda Crego ’79 at cac432@aol.com for more information.\n\n\n\n\n\n\n\n\n\n\n\n\n\n\nThe September 15 Book Club will feature a nonfiction book\, The Color of Water: a Black Man’s Tribute to His White Mother by James McBride.  On September 22\, 2016\, President Barack Obama awarded McBride the 2015 National Humanities Medal “for humanizing the complexities of discussing race in America. Through writings about his own uniquely American story\, and his works of fiction informed by our shared history\, his moving stories of love display the character of the American family.”\n\n\n\n\n\nBook Summary: \n\n\n\n“Who is Ruth McBride Jordan? A self-declared “light-skinned” woman evasive about her ethnicity\, yet steadfast in her love for her twelve black children. James McBride\, journalist\, musician\, and son\, explores his mother’s past\, as well as his own upbringing and heritage…” (from Amazon) ” The two stories\, son’s and mother’s\, beautifully juxtaposed\, strike a graceful note at a time of racial polarization.” (from NYTimes Book Review)\n\n\nALL of the Erie County libraries are now open for either curbside pick-up or to enter – check the library website.   The library reservation system is now available\, and books are being transferred between libraries (although it may take longer than normal). Copies in different formats are available.\n\n\n\n\n\n\n\n\n\n\n\n\n\n\n\n\n\n\n\nShare this:Click to share on Twitter (Opens in new window)Click to share on Facebook (Opens in new window)Click to share on LinkedIn (Opens in new window)
URL:http://cornellclub-buffalo.org/event/sept-2020-book-club
END:VEVENT
BEGIN:VEVENT
DTSTART;TZID=America/New_York:20200921T193000
DTEND;TZID=America/New_York:20200921T203000
DTSTAMP:20260420T175930
CREATED:20200813T132109Z
LAST-MODIFIED:20200813T132109Z
UID:808-1600716600-1600720200@cornellclub-buffalo.org
SUMMARY:September Cornell History Happy Hour
DESCRIPTION:Cornelliana with Corey\nWant to learn more about Cornell’s history? Looking for a great reason to get together online with your Cornell friends or spend some time learning something new? Join us each month to hear from the legendary Corey Ryan Earle ’07 at one of his ‘history happy hours’ this fall. Tune in for one or all five! \n\n\n\n\n\n\n\n\nMonday\, September 21\, 7:30pm ESTBig Red Athletics Through the Years\n\n\n\n\n\n\nRegister now at https://cornell.zoom.us/webinar/register/WN_vG78g9dvSIOkUvXmdbD26A\n\n\n\n\n\n\n\nShare this:Click to share on Twitter (Opens in new window)Click to share on Facebook (Opens in new window)Click to share on LinkedIn (Opens in new window)
URL:http://cornellclub-buffalo.org/event/september-cornell-history-happy-hour
END:VEVENT
END:VCALENDAR