BEGIN:VCALENDAR
VERSION:2.0
PRODID:-//Cornell Club of Greater Buffalo - ECPv6.0.12//NONSGML v1.0//EN
CALSCALE:GREGORIAN
METHOD:PUBLISH
X-WR-CALNAME:Cornell Club of Greater Buffalo
X-ORIGINAL-URL:http://cornellclub-buffalo.org
X-WR-CALDESC:Events for Cornell Club of Greater Buffalo
REFRESH-INTERVAL;VALUE=DURATION:PT1H
X-Robots-Tag:noindex
X-PUBLISHED-TTL:PT1H
BEGIN:VTIMEZONE
TZID:America/New_York
BEGIN:DAYLIGHT
TZOFFSETFROM:-0500
TZOFFSETTO:-0400
TZNAME:EDT
DTSTART:20200308T070000
END:DAYLIGHT
BEGIN:STANDARD
TZOFFSETFROM:-0400
TZOFFSETTO:-0500
TZNAME:EST
DTSTART:20201101T060000
END:STANDARD
END:VTIMEZONE
BEGIN:VEVENT
DTSTART;TZID=America/New_York:20201116T193000
DTEND;TZID=America/New_York:20201116T203000
DTSTAMP:20260420T152350
CREATED:20200813T132531Z
LAST-MODIFIED:20200813T132531Z
UID:813-1605555000-1605558600@cornellclub-buffalo.org
SUMMARY:November Cornell History Happy Hour
DESCRIPTION:Cornelliana with Corey\nWant to learn more about Cornell’s history? Looking for a great reason to get together online with your Cornell friends or spend some time learning something new? Join us each month to hear from the legendary Corey Ryan Earle ’07 at one of his ‘history happy hours’ this fall. Tune in for one or all five! \n\n\n\n\n\n\n\n\nMonday\, November 16\, 7:30pm EST \nCornell’s Historic Connections to American Indian & Indigenous Communities\n\n\n\n\n\n\nRegister now at https://cornell.zoom.us/webinar/register/WN_vG78g9dvSIOkUvXmdbD26A\n\n\n\n\n\n\n\nShare this:Click to share on Twitter (Opens in new window)Click to share on Facebook (Opens in new window)Click to share on LinkedIn (Opens in new window)
URL:http://cornellclub-buffalo.org/event/november-cornell-history-happy-hour
END:VEVENT
BEGIN:VEVENT
DTSTART;TZID=America/New_York:20201117T193000
DTEND;TZID=America/New_York:20201117T210000
DTSTAMP:20260420T152350
CREATED:20200825T203032Z
LAST-MODIFIED:20201102T180728Z
UID:830-1605641400-1605646800@cornellclub-buffalo.org
SUMMARY:Nov 2020 Book Club
DESCRIPTION:Join the Cornell Club of Greater Buffalo and author Sung J. Woo\, Class of 1994 (Arts)\, for a very special Book Club on November 17\, 2020. Woo will read from his most recent novel\, Skin Deep. Woo will also take questions about his book\, his writing career\, and his connection to Cornell (which includes the writing workshops at Goldwin Smith and  a stint at the Daily Sun).\n\nSkin Deep (2020) is a mystery novel set in a small college town inspired by Ithaca and Cornell. Although the they are called Lenrock University and the town of Athena\, you will recognize them. Sung J. Woo’s work has appeared in The New York Times\, Vox\, and PEN/Guernica\, among others. Skin Deep is his third novel.\n\nCopies of the paperback book are available for purchase through local book stores\, such as Talking Leaves\, and through Amazon. It is also available as a Kindle ebook.\n \n\n \n\n\n\n\n\n\n\n\n\nDue to COVID\, The November 17 Book Club will be held over ZOOM. So grab a snack & your favorite beverage\, and join us.\n\nNo mask required\, the link for registration is below. After registering\, Cornell will send a ZOOM link to you. \n\nhttps://cornell.zoom.us/meeting/register/tJcoc-ChpzopGdPDRLbwZ3ZJvM2ikubuscHj\n\n\n\n\n\n\n“With just the right mix of clever twists\, endearing charm\, looming threats\, and contemporary issues\, Woo debuts quite the absorbing new mystery series.”―Library Journal\, Starred Review\n\n\n\n\nContact Celinda Crego ’79 at cac432@aol.com for more information.\n\n\n\n\n\n\n\n\n\n\n\n\n\n\n\n\n\nShare this:Click to share on Twitter (Opens in new window)Click to share on Facebook (Opens in new window)Click to share on LinkedIn (Opens in new window)
URL:http://cornellclub-buffalo.org/event/nov-2020-book-club
END:VEVENT
BEGIN:VEVENT
DTSTART;TZID=America/New_York:20201129T140000
DTEND;TZID=America/New_York:20201129T210000
DTSTAMP:20260420T152350
CREATED:20201117T222822Z
LAST-MODIFIED:20201117T222822Z
UID:860-1606658400-1606683600@cornellclub-buffalo.org
SUMMARY:Cornell Club Mixer: Make friends with Cornellians around the world
DESCRIPTION:Bring your beverage of choice\, and make friends with Cornellians around the world! \nMingle in small discussion groups centered around Cornell-related themes. Share your favorite spots in Collegetown\, reminisce on the festivities of Spring/Slope Day\, and learn how Cornell has changed over the decades. \nWe will use Zoom video chat and split everyone into small breakout rooms\, so everyone has a chance to talk and share with just a few people. We will rotate everyone around\, so you will meet many Cornellians through the mixer. \nEvent Schedule\n– Main Event (2pm-3pm ET): Small breakout rooms led by moderators\n– After-Party (3pm-9pm ET): A stream of mini\, rapid breakout rooms \nRegister now! \nShare this:Click to share on Twitter (Opens in new window)Click to share on Facebook (Opens in new window)Click to share on LinkedIn (Opens in new window)
URL:http://cornellclub-buffalo.org/event/cornell-club-mixer-make-friends-with-cornellians-around-the-world
END:VEVENT
END:VCALENDAR