BEGIN:VCALENDAR
VERSION:2.0
PRODID:-//Cornell Club of Greater Buffalo - ECPv6.0.12//NONSGML v1.0//EN
CALSCALE:GREGORIAN
METHOD:PUBLISH
X-WR-CALNAME:Cornell Club of Greater Buffalo
X-ORIGINAL-URL:http://cornellclub-buffalo.org
X-WR-CALDESC:Events for Cornell Club of Greater Buffalo
REFRESH-INTERVAL;VALUE=DURATION:PT1H
X-Robots-Tag:noindex
X-PUBLISHED-TTL:PT1H
BEGIN:VTIMEZONE
TZID:America/New_York
BEGIN:DAYLIGHT
TZOFFSETFROM:-0500
TZOFFSETTO:-0400
TZNAME:EDT
DTSTART:20200308T070000
END:DAYLIGHT
BEGIN:STANDARD
TZOFFSETFROM:-0400
TZOFFSETTO:-0500
TZNAME:EST
DTSTART:20201101T060000
END:STANDARD
END:VTIMEZONE
BEGIN:VEVENT
DTSTART;TZID=America/New_York:20201214T193000
DTEND;TZID=America/New_York:20201214T203000
DTSTAMP:20260420T140545
CREATED:20200813T132713Z
LAST-MODIFIED:20200813T132713Z
UID:816-1607974200-1607977800@cornellclub-buffalo.org
SUMMARY:December Cornell History Happy Hour
DESCRIPTION:Cornelliana with Corey\nWant to learn more about Cornell’s history? Looking for a great reason to get together online with your Cornell friends or spend some time learning something new? Join us each month to hear from the legendary Corey Ryan Earle ’07 at one of his ‘history happy hours’ this fall. Tune in for one or all five! \n\n\n\n\n\n\n\n\nMonday\, December 14\, 7:30pm EST \nSnow Days\, Ice Skating\, & Wintertime Fun\n\n\n\n\n\n\nRegister now at https://cornell.zoom.us/webinar/register/WN_vG78g9dvSIOkUvXmdbD26A\n\n\n\n\n\n\n\nShare this:Click to share on Twitter (Opens in new window)Click to share on Facebook (Opens in new window)Click to share on LinkedIn (Opens in new window)
URL:http://cornellclub-buffalo.org/event/december-cornell-history-happy-hour
END:VEVENT
END:VCALENDAR