BEGIN:VCALENDAR
VERSION:2.0
PRODID:-//Cornell Club of Greater Buffalo - ECPv6.0.12//NONSGML v1.0//EN
CALSCALE:GREGORIAN
METHOD:PUBLISH
X-WR-CALNAME:Cornell Club of Greater Buffalo
X-ORIGINAL-URL:http://cornellclub-buffalo.org
X-WR-CALDESC:Events for Cornell Club of Greater Buffalo
REFRESH-INTERVAL;VALUE=DURATION:PT1H
X-Robots-Tag:noindex
X-PUBLISHED-TTL:PT1H
BEGIN:VTIMEZONE
TZID:America/New_York
BEGIN:DAYLIGHT
TZOFFSETFROM:-0500
TZOFFSETTO:-0400
TZNAME:EDT
DTSTART:20210314T070000
END:DAYLIGHT
BEGIN:STANDARD
TZOFFSETFROM:-0400
TZOFFSETTO:-0500
TZNAME:EST
DTSTART:20211107T060000
END:STANDARD
END:VTIMEZONE
BEGIN:VEVENT
DTSTART;TZID=America/New_York:20210309T193000
DTEND;TZID=America/New_York:20210309T210000
DTSTAMP:20260420T095346
CREATED:20210115T004447Z
LAST-MODIFIED:20210115T004718Z
UID:911-1615318200-1615323600@cornellclub-buffalo.org
SUMMARY:March 2021 Book Club
DESCRIPTION:Due to the Pandemic\, we will continue to hold the Cornell Club of Greater Buffalo Book Club Meetings over ZOOM. \nBook is TBD. \nRegister in advance for this meeting:\nhttps://cornell.zoom.us/meeting/register/tJwtceCppzguHtOC-zjD1JUDj7Do62w7yj5F \nContact Celinda Crego ’79 at cac432@aol.com for details \nShare this:Click to share on Twitter (Opens in new window)Click to share on Facebook (Opens in new window)Click to share on LinkedIn (Opens in new window)
URL:http://cornellclub-buffalo.org/event/march-2020-book-club
END:VEVENT
BEGIN:VEVENT
DTSTART;TZID=America/New_York:20210324T193000
DTEND;TZID=America/New_York:20210324T203000
DTSTAMP:20260420T095346
CREATED:20210224T132909Z
LAST-MODIFIED:20210312T211456Z
UID:924-1616614200-1616617800@cornellclub-buffalo.org
SUMMARY:Albright-Knox Presents: The Famous Art Collectors Who Created Modern Museums
DESCRIPTION:Albright-Knox Art Gallery Assistant Curator Dr. Tina Rivers Ryan will present “Power-Hungry Emperors\, Civic-Minded Magnates\, and Visionary Ladies: The Famous Art Collectors Who Created Modern Museums.” Today’s non-profit institutions that collect and exhibit art for the benefit of the public did not always exist. In this engaging talk\, we will hear the story of how major art collectors—from Emperor Napoleon to the financier Andrew W. Mellon and the socialite Gertrude Vanderbilt Whitney—helped create the idea of museums as we know them today. \nRegister here. Contact Dave Meade ’81 at nys.dave@gmail.com with questions. \nShare this:Click to share on Twitter (Opens in new window)Click to share on Facebook (Opens in new window)Click to share on LinkedIn (Opens in new window)
URL:http://cornellclub-buffalo.org/event/albright-knox-presents-the-famous-art-collectors-who-created-modern-museums
END:VEVENT
END:VCALENDAR